BEGIN:VCALENDAR
VERSION:2.0
PRODID:-//Mountbellew - ECPv6.15.20//NONSGML v1.0//EN
CALSCALE:GREGORIAN
METHOD:PUBLISH
X-WR-CALNAME:Mountbellew
X-ORIGINAL-URL:https://mountbellew.com
X-WR-CALDESC:Events for Mountbellew
REFRESH-INTERVAL;VALUE=DURATION:PT1H
X-Robots-Tag:noindex
X-PUBLISHED-TTL:PT1H
BEGIN:VTIMEZONE
TZID:Europe/Dublin
BEGIN:DAYLIGHT
TZOFFSETFROM:+0000
TZOFFSETTO:+0100
TZNAME:IST
DTSTART:20240331T010000
END:DAYLIGHT
BEGIN:STANDARD
TZOFFSETFROM:+0100
TZOFFSETTO:+0000
TZNAME:GMT
DTSTART:20241027T010000
END:STANDARD
BEGIN:DAYLIGHT
TZOFFSETFROM:+0000
TZOFFSETTO:+0100
TZNAME:IST
DTSTART:20250330T010000
END:DAYLIGHT
BEGIN:STANDARD
TZOFFSETFROM:+0100
TZOFFSETTO:+0000
TZNAME:GMT
DTSTART:20251026T010000
END:STANDARD
BEGIN:DAYLIGHT
TZOFFSETFROM:+0000
TZOFFSETTO:+0100
TZNAME:IST
DTSTART:20260329T010000
END:DAYLIGHT
BEGIN:STANDARD
TZOFFSETFROM:+0100
TZOFFSETTO:+0000
TZNAME:GMT
DTSTART:20261025T010000
END:STANDARD
END:VTIMEZONE
BEGIN:VEVENT
DTSTART;TZID=Europe/Dublin:20250417T100000
DTEND;TZID=Europe/Dublin:20250417T110000
DTSTAMP:20260424T041119
CREATED:20240502T145452Z
LAST-MODIFIED:20240502T145452Z
UID:4061-1744884000-1744887600@mountbellew.com
SUMMARY:Baby body Fit
DESCRIPTION:Event in the Community Centre
URL:https://mountbellew.com/oneevent/baby-body-fit-107/
LOCATION:Mountbellew Community Centre\, Ballygar Road\, Mountbellew\, Galway\, H53R838\, Ireland
CATEGORIES:Community Centre
ATTACH;FMTTYPE=image/jpeg:https://mountbellew.com/wp-content/uploads/2024/05/community-centre-mountbellew-300x225-lCWSiz.tmp_.jpg
ORGANIZER;CN="Phil Keating":MAILTO:mountbellewcommunitycentre@gmail.com
END:VEVENT
BEGIN:VEVENT
DTSTART;TZID=Europe/Dublin:20250416T190000
DTEND;TZID=Europe/Dublin:20250416T204500
DTSTAMP:20260424T041119
CREATED:20240502T144411Z
LAST-MODIFIED:20240507T172026Z
UID:4003-1744830000-1744836300@mountbellew.com
SUMMARY:Yoga with Paul
DESCRIPTION:Event in the Community Centre
URL:https://mountbellew.com/oneevent/yoga-with-paul-51/
LOCATION:Mountbellew Community Centre\, Ballygar Road\, Mountbellew\, Galway\, H53R838\, Ireland
CATEGORIES:Community Centre
ATTACH;FMTTYPE=image/png:https://mountbellew.com/wp-content/uploads/2024/05/image-300x225-1.png
ORGANIZER;CN="Phil Keating":MAILTO:mountbellewcommunitycentre@gmail.com
END:VEVENT
BEGIN:VEVENT
DTSTART;TZID=Europe/Dublin:20250416T093000
DTEND;TZID=Europe/Dublin:20250416T103000
DTSTAMP:20260424T041119
CREATED:20240502T140130Z
LAST-MODIFIED:20240507T174143Z
UID:3945-1744795800-1744799400@mountbellew.com
SUMMARY:Slimming World
DESCRIPTION:Event in the Community Centre
URL:https://mountbellew.com/oneevent/slimming-world-107/
LOCATION:Mountbellew Community Centre\, Ballygar Road\, Mountbellew\, Galway\, H53R838\, Ireland
CATEGORIES:Community Centre
ATTACH;FMTTYPE=image/png:https://mountbellew.com/wp-content/uploads/2024/05/slimmingworld.png
ORGANIZER;CN="Phil Keating":MAILTO:mountbellewcommunitycentre@gmail.com
END:VEVENT
BEGIN:VEVENT
DTSTART;TZID=Europe/Dublin:20250415T203000
DTEND;TZID=Europe/Dublin:20250415T223000
DTSTAMP:20260424T041119
CREATED:20240502T134136Z
LAST-MODIFIED:20240507T193722Z
UID:3829-1744749000-1744756200@mountbellew.com
SUMMARY:Bowls
DESCRIPTION:Event in the Community Centre
URL:https://mountbellew.com/oneevent/bowls-107/
LOCATION:Mountbellew Community Centre\, Ballygar Road\, Mountbellew\, Galway\, H53R838\, Ireland
CATEGORIES:Community Centre
ATTACH;FMTTYPE=image/png:https://mountbellew.com/wp-content/uploads/2024/05/bowls.png
ORGANIZER;CN="Phil Keating":MAILTO:mountbellewcommunitycentre@gmail.com
END:VEVENT
BEGIN:VEVENT
DTSTART;TZID=Europe/Dublin:20250415T200000
DTEND;TZID=Europe/Dublin:20250415T220000
DTSTAMP:20260424T041119
CREATED:20240507T203623Z
LAST-MODIFIED:20240507T204732Z
UID:5079-1744747200-1744754400@mountbellew.com
SUMMARY:Crochet & Crafts at Galway Telework Centre
DESCRIPTION:Join us every Tuesday at 8pm to 10pm for crochet\, crafts\, chats & cuppa!
URL:https://mountbellew.com/oneevent/crochet-crafts-at-galway-telework-centre-51/
LOCATION:Galway Telework Centre H53TN67\, H53TN67\, Ireland
ATTACH;FMTTYPE=image/png:https://mountbellew.com/wp-content/uploads/2024/05/image-300x225-3.png
ORGANIZER;CN="Maura Hannon":MAILTO:gtcomountbellew@gmail.com
END:VEVENT
BEGIN:VEVENT
DTSTART;TZID=Europe/Dublin:20250415T190000
DTEND;TZID=Europe/Dublin:20250415T210000
DTSTAMP:20260424T041119
CREATED:20240502T135034Z
LAST-MODIFIED:20240507T200731Z
UID:3887-1744743600-1744750800@mountbellew.com
SUMMARY:Art
DESCRIPTION:Event in the Community Centre
URL:https://mountbellew.com/oneevent/art-51/
LOCATION:Mountbellew Community Centre\, Ballygar Road\, Mountbellew\, Galway\, H53R838\, Ireland
CATEGORIES:Community Centre
ATTACH;FMTTYPE=image/png:https://mountbellew.com/wp-content/uploads/2024/05/image-300x225-2.png
ORGANIZER;CN="Phil Keating":MAILTO:mountbellewcommunitycentre@gmail.com
END:VEVENT
BEGIN:VEVENT
DTSTART;TZID=Europe/Dublin:20250415T190000
DTEND;TZID=Europe/Dublin:20250415T200000
DTSTAMP:20260424T041119
CREATED:20240502T133425Z
LAST-MODIFIED:20240507T195433Z
UID:3771-1744743600-1744747200@mountbellew.com
SUMMARY:Slimming World
DESCRIPTION:Event in the Community Centre
URL:https://mountbellew.com/oneevent/slimming-world-51/
LOCATION:Mountbellew Community Centre\, Ballygar Road\, Mountbellew\, Galway\, H53R838\, Ireland
CATEGORIES:Community Centre
ATTACH;FMTTYPE=image/png:https://mountbellew.com/wp-content/uploads/2024/05/slimmingworld.png
ORGANIZER;CN="Phil Keating":MAILTO:mountbellewcommunitycentre@gmail.com
END:VEVENT
BEGIN:VEVENT
DTSTART;TZID=Europe/Dublin:20250415T100000
DTEND;TZID=Europe/Dublin:20250415T110000
DTSTAMP:20260424T041119
CREATED:20240502T132544Z
LAST-MODIFIED:20240502T132544Z
UID:3713-1744711200-1744714800@mountbellew.com
SUMMARY:Baby Body Fit
DESCRIPTION:Event in the Community Centre
URL:https://mountbellew.com/oneevent/baby-body-fit-51/
LOCATION:Mountbellew Community Centre\, Ballygar Road\, Mountbellew\, Galway\, H53R838\, Ireland
CATEGORIES:Community Centre
ATTACH;FMTTYPE=image/jpeg:https://mountbellew.com/wp-content/uploads/2024/05/community-centre-mountbellew-300x225-lCWSiz.tmp_.jpg
ORGANIZER;CN="Phil Keating":MAILTO:mountbellewcommunitycentre@gmail.com
END:VEVENT
BEGIN:VEVENT
DTSTART;TZID=Europe/Dublin:20250414T184500
DTEND;TZID=Europe/Dublin:20250414T194500
DTSTAMP:20260424T041119
CREATED:20240502T130427Z
LAST-MODIFIED:20240507T202026Z
UID:3598-1744656300-1744659900@mountbellew.com
SUMMARY:Gentle Yoga with Petra
DESCRIPTION:Event in the Community Centre
URL:https://mountbellew.com/oneevent/gentle-yoga-with-petra-51/
LOCATION:Mountbellew Community Centre\, Ballygar Road\, Mountbellew\, Galway\, H53R838\, Ireland
CATEGORIES:Community Centre
ATTACH;FMTTYPE=image/png:https://mountbellew.com/wp-content/uploads/2024/05/image-300x225-1-1.png
ORGANIZER;CN="Phil Keating":MAILTO:mountbellewcommunitycentre@gmail.com
END:VEVENT
BEGIN:VEVENT
DTSTART;TZID=Europe/Dublin:20250414T103000
DTEND;TZID=Europe/Dublin:20250414T123000
DTSTAMP:20260424T041119
CREATED:20240502T124412Z
LAST-MODIFIED:20240507T192709Z
UID:3533-1744626600-1744633800@mountbellew.com
SUMMARY:Bowls
DESCRIPTION:Event in the Community Centre
URL:https://mountbellew.com/oneevent/bowls-51/
LOCATION:Mountbellew Community Centre\, Ballygar Road\, Mountbellew\, Galway\, H53R838\, Ireland
CATEGORIES:Community Centre
ATTACH;FMTTYPE=image/png:https://mountbellew.com/wp-content/uploads/2024/05/bowls.png
ORGANIZER;CN="Phil Keating":MAILTO:mountbellewcommunitycentre@gmail.com
END:VEVENT
BEGIN:VEVENT
DTSTART;TZID=Europe/Dublin:20250411T203000
DTEND;TZID=Europe/Dublin:20250411T220000
DTSTAMP:20260424T041119
CREATED:20240502T161650Z
LAST-MODIFIED:20240507T185147Z
UID:4408-1744403400-1744408800@mountbellew.com
SUMMARY:No Name Club
DESCRIPTION:Event in the Community Centre
URL:https://mountbellew.com/oneevent/no-name-club-50/
LOCATION:Mountbellew Community Centre\, Ballygar Road\, Mountbellew\, Galway\, H53R838\, Ireland
CATEGORIES:Community Centre
ATTACH;FMTTYPE=image/png:https://mountbellew.com/wp-content/uploads/2024/05/nonameclub.png
ORGANIZER;CN="Phil Keating":MAILTO:mountbellewcommunitycentre@gmail.com
END:VEVENT
BEGIN:VEVENT
DTSTART;TZID=Europe/Dublin:20250411T160000
DTEND;TZID=Europe/Dublin:20250411T203000
DTSTAMP:20260424T041119
CREATED:20240502T155852Z
LAST-MODIFIED:20240502T155852Z
UID:4350-1744387200-1744403400@mountbellew.com
SUMMARY:Children's Dance
DESCRIPTION:Event in the Community Centre
URL:https://mountbellew.com/oneevent/childrens-dance-50/
LOCATION:Mountbellew Community Centre\, Ballygar Road\, Mountbellew\, Galway\, H53R838\, Ireland
CATEGORIES:Community Centre
ATTACH;FMTTYPE=image/jpeg:https://mountbellew.com/wp-content/uploads/2024/05/community-centre-mountbellew-300x225-lCWSiz.tmp_.jpg
ORGANIZER;CN="Phil Keating":MAILTO:mountbellewcommunitycentre@gmail.com
END:VEVENT
BEGIN:VEVENT
DTSTART;TZID=Europe/Dublin:20250411T100000
DTEND;TZID=Europe/Dublin:20250411T110000
DTSTAMP:20260424T041119
CREATED:20240502T154800Z
LAST-MODIFIED:20240507T183936Z
UID:4292-1744365600-1744369200@mountbellew.com
SUMMARY:Pilates
DESCRIPTION:Event in the Community Centre
URL:https://mountbellew.com/oneevent/pilates-50/
LOCATION:Mountbellew Community Centre\, Ballygar Road\, Mountbellew\, Galway\, H53R838\, Ireland
CATEGORIES:Community Centre
ATTACH;FMTTYPE=image/png:https://mountbellew.com/wp-content/uploads/2024/05/pilates.png
ORGANIZER;CN="Phil Keating":MAILTO:mountbellewcommunitycentre@gmail.com
END:VEVENT
BEGIN:VEVENT
DTSTART;TZID=Europe/Dublin:20250410T200000
DTEND;TZID=Europe/Dublin:20250410T220000
DTSTAMP:20260424T041119
CREATED:20240502T152753Z
LAST-MODIFIED:20240507T183012Z
UID:4234-1744315200-1744322400@mountbellew.com
SUMMARY:The Women's Shed
DESCRIPTION:Event in the Community Centre Meeting Room
URL:https://mountbellew.com/oneevent/the-womens-shed-50/
LOCATION:Mountbellew Community Centre\, Ballygar Road\, Mountbellew\, Galway\, H53R838\, Ireland
CATEGORIES:Community Centre
ATTACH;FMTTYPE=image/png:https://mountbellew.com/wp-content/uploads/2024/05/womensshed-1.png
ORGANIZER;CN="Phil Keating":MAILTO:mountbellewcommunitycentre@gmail.com
END:VEVENT
BEGIN:VEVENT
DTSTART;TZID=Europe/Dublin:20250410T190000
DTEND;TZID=Europe/Dublin:20250410T213000
DTSTAMP:20260424T041119
CREATED:20240502T150954Z
LAST-MODIFIED:20240507T175939Z
UID:4176-1744311600-1744320600@mountbellew.com
SUMMARY:Karate
DESCRIPTION:Event in the Community Centre
URL:https://mountbellew.com/oneevent/karate-50/
LOCATION:Mountbellew Community Centre\, Ballygar Road\, Mountbellew\, Galway\, H53R838\, Ireland
CATEGORIES:Community Centre
ATTACH;FMTTYPE=image/png:https://mountbellew.com/wp-content/uploads/2024/05/karate.png
ORGANIZER;CN="Phil Keating":MAILTO:mountbellewcommunitycentre@gmail.com
END:VEVENT
BEGIN:VEVENT
DTSTART;TZID=Europe/Dublin:20250410T113000
DTEND;TZID=Europe/Dublin:20250410T123000
DTSTAMP:20260424T041119
CREATED:20240502T150047Z
LAST-MODIFIED:20240502T150047Z
UID:4118-1744284600-1744288200@mountbellew.com
SUMMARY:Pickleball Boccia
DESCRIPTION:Event in the Community Centre
URL:https://mountbellew.com/oneevent/pickleball-boccia-50/
LOCATION:Mountbellew Community Centre\, Ballygar Road\, Mountbellew\, Galway\, H53R838\, Ireland
CATEGORIES:Community Centre
ATTACH;FMTTYPE=image/jpeg:https://mountbellew.com/wp-content/uploads/2024/05/community-centre-mountbellew-300x225-lCWSiz.tmp_.jpg
ORGANIZER;CN="Phil Keating":MAILTO:mountbellewcommunitycentre@gmail.com
END:VEVENT
BEGIN:VEVENT
DTSTART;TZID=Europe/Dublin:20250410T100000
DTEND;TZID=Europe/Dublin:20250410T110000
DTSTAMP:20260424T041119
CREATED:20240502T145416Z
LAST-MODIFIED:20240502T145416Z
UID:4060-1744279200-1744282800@mountbellew.com
SUMMARY:Baby body Fit
DESCRIPTION:Event in the Community Centre
URL:https://mountbellew.com/oneevent/baby-body-fit-106/
LOCATION:Mountbellew Community Centre\, Ballygar Road\, Mountbellew\, Galway\, H53R838\, Ireland
CATEGORIES:Community Centre
ATTACH;FMTTYPE=image/jpeg:https://mountbellew.com/wp-content/uploads/2024/05/community-centre-mountbellew-300x225-lCWSiz.tmp_.jpg
ORGANIZER;CN="Phil Keating":MAILTO:mountbellewcommunitycentre@gmail.com
END:VEVENT
BEGIN:VEVENT
DTSTART;TZID=Europe/Dublin:20250409T190000
DTEND;TZID=Europe/Dublin:20250409T204500
DTSTAMP:20260424T041119
CREATED:20240502T144358Z
LAST-MODIFIED:20240507T172014Z
UID:4002-1744225200-1744231500@mountbellew.com
SUMMARY:Yoga with Paul
DESCRIPTION:Event in the Community Centre
URL:https://mountbellew.com/oneevent/yoga-with-paul-50/
LOCATION:Mountbellew Community Centre\, Ballygar Road\, Mountbellew\, Galway\, H53R838\, Ireland
CATEGORIES:Community Centre
ATTACH;FMTTYPE=image/png:https://mountbellew.com/wp-content/uploads/2024/05/image-300x225-1.png
ORGANIZER;CN="Phil Keating":MAILTO:mountbellewcommunitycentre@gmail.com
END:VEVENT
BEGIN:VEVENT
DTSTART;TZID=Europe/Dublin:20250409T093000
DTEND;TZID=Europe/Dublin:20250409T103000
DTSTAMP:20260424T041119
CREATED:20240502T140118Z
LAST-MODIFIED:20240507T174000Z
UID:3944-1744191000-1744194600@mountbellew.com
SUMMARY:Slimming World
DESCRIPTION:Event in the Community Centre
URL:https://mountbellew.com/oneevent/slimming-world-106/
LOCATION:Mountbellew Community Centre\, Ballygar Road\, Mountbellew\, Galway\, H53R838\, Ireland
CATEGORIES:Community Centre
ATTACH;FMTTYPE=image/png:https://mountbellew.com/wp-content/uploads/2024/05/slimmingworld.png
ORGANIZER;CN="Phil Keating":MAILTO:mountbellewcommunitycentre@gmail.com
END:VEVENT
BEGIN:VEVENT
DTSTART;TZID=Europe/Dublin:20250408T203000
DTEND;TZID=Europe/Dublin:20250408T223000
DTSTAMP:20260424T041119
CREATED:20240502T134113Z
LAST-MODIFIED:20240507T193647Z
UID:3828-1744144200-1744151400@mountbellew.com
SUMMARY:Bowls
DESCRIPTION:Event in the Community Centre
URL:https://mountbellew.com/oneevent/bowls-106/
LOCATION:Mountbellew Community Centre\, Ballygar Road\, Mountbellew\, Galway\, H53R838\, Ireland
CATEGORIES:Community Centre
ATTACH;FMTTYPE=image/png:https://mountbellew.com/wp-content/uploads/2024/05/bowls.png
ORGANIZER;CN="Phil Keating":MAILTO:mountbellewcommunitycentre@gmail.com
END:VEVENT
BEGIN:VEVENT
DTSTART;TZID=Europe/Dublin:20250408T200000
DTEND;TZID=Europe/Dublin:20250408T220000
DTSTAMP:20260424T041119
CREATED:20240507T203611Z
LAST-MODIFIED:20240507T204719Z
UID:5078-1744142400-1744149600@mountbellew.com
SUMMARY:Crochet & Crafts at Galway Telework Centre
DESCRIPTION:Join us every Tuesday at 8pm to 10pm for crochet\, crafts\, chats & cuppa!
URL:https://mountbellew.com/oneevent/crochet-crafts-at-galway-telework-centre-50/
LOCATION:Galway Telework Centre H53TN67\, H53TN67\, Ireland
ATTACH;FMTTYPE=image/png:https://mountbellew.com/wp-content/uploads/2024/05/image-300x225-3.png
ORGANIZER;CN="Maura Hannon":MAILTO:gtcomountbellew@gmail.com
END:VEVENT
BEGIN:VEVENT
DTSTART;TZID=Europe/Dublin:20250408T190000
DTEND;TZID=Europe/Dublin:20250408T210000
DTSTAMP:20260424T041120
CREATED:20240502T134957Z
LAST-MODIFIED:20240507T200720Z
UID:3886-1744138800-1744146000@mountbellew.com
SUMMARY:Art
DESCRIPTION:Event in the Community Centre
URL:https://mountbellew.com/oneevent/art-50/
LOCATION:Mountbellew Community Centre\, Ballygar Road\, Mountbellew\, Galway\, H53R838\, Ireland
CATEGORIES:Community Centre
ATTACH;FMTTYPE=image/png:https://mountbellew.com/wp-content/uploads/2024/05/image-300x225-2.png
ORGANIZER;CN="Phil Keating":MAILTO:mountbellewcommunitycentre@gmail.com
END:VEVENT
BEGIN:VEVENT
DTSTART;TZID=Europe/Dublin:20250408T190000
DTEND;TZID=Europe/Dublin:20250408T200000
DTSTAMP:20260424T041120
CREATED:20240502T133413Z
LAST-MODIFIED:20240507T195326Z
UID:3770-1744138800-1744142400@mountbellew.com
SUMMARY:Slimming World
DESCRIPTION:Event in the Community Centre
URL:https://mountbellew.com/oneevent/slimming-world-50/
LOCATION:Mountbellew Community Centre\, Ballygar Road\, Mountbellew\, Galway\, H53R838\, Ireland
CATEGORIES:Community Centre
ATTACH;FMTTYPE=image/png:https://mountbellew.com/wp-content/uploads/2024/05/slimmingworld.png
ORGANIZER;CN="Phil Keating":MAILTO:mountbellewcommunitycentre@gmail.com
END:VEVENT
BEGIN:VEVENT
DTSTART;TZID=Europe/Dublin:20250408T100000
DTEND;TZID=Europe/Dublin:20250408T110000
DTSTAMP:20260424T041120
CREATED:20240502T132523Z
LAST-MODIFIED:20240502T132523Z
UID:3712-1744106400-1744110000@mountbellew.com
SUMMARY:Baby Body Fit
DESCRIPTION:Event in the Community Centre
URL:https://mountbellew.com/oneevent/baby-body-fit-50/
LOCATION:Mountbellew Community Centre\, Ballygar Road\, Mountbellew\, Galway\, H53R838\, Ireland
CATEGORIES:Community Centre
ATTACH;FMTTYPE=image/jpeg:https://mountbellew.com/wp-content/uploads/2024/05/community-centre-mountbellew-300x225-lCWSiz.tmp_.jpg
ORGANIZER;CN="Phil Keating":MAILTO:mountbellewcommunitycentre@gmail.com
END:VEVENT
BEGIN:VEVENT
DTSTART;TZID=Europe/Dublin:20250407T184500
DTEND;TZID=Europe/Dublin:20250407T194500
DTSTAMP:20260424T041120
CREATED:20240502T130415Z
LAST-MODIFIED:20240507T201926Z
UID:3597-1744051500-1744055100@mountbellew.com
SUMMARY:Gentle Yoga with Petra
DESCRIPTION:Event in the Community Centre
URL:https://mountbellew.com/oneevent/gentle-yoga-with-petra-50/
LOCATION:Mountbellew Community Centre\, Ballygar Road\, Mountbellew\, Galway\, H53R838\, Ireland
CATEGORIES:Community Centre
ATTACH;FMTTYPE=image/png:https://mountbellew.com/wp-content/uploads/2024/05/image-300x225-1-1.png
ORGANIZER;CN="Phil Keating":MAILTO:mountbellewcommunitycentre@gmail.com
END:VEVENT
BEGIN:VEVENT
DTSTART;TZID=Europe/Dublin:20250407T103000
DTEND;TZID=Europe/Dublin:20250407T123000
DTSTAMP:20260424T041120
CREATED:20240502T124400Z
LAST-MODIFIED:20240507T192636Z
UID:3532-1744021800-1744029000@mountbellew.com
SUMMARY:Bowls
DESCRIPTION:Event in the Community Centre
URL:https://mountbellew.com/oneevent/bowls-50/
LOCATION:Mountbellew Community Centre\, Ballygar Road\, Mountbellew\, Galway\, H53R838\, Ireland
CATEGORIES:Community Centre
ATTACH;FMTTYPE=image/png:https://mountbellew.com/wp-content/uploads/2024/05/bowls.png
ORGANIZER;CN="Phil Keating":MAILTO:mountbellewcommunitycentre@gmail.com
END:VEVENT
BEGIN:VEVENT
DTSTART;TZID=Europe/Dublin:20250404T203000
DTEND;TZID=Europe/Dublin:20250404T220000
DTSTAMP:20260424T041120
CREATED:20240502T161649Z
LAST-MODIFIED:20240507T185146Z
UID:4407-1743798600-1743804000@mountbellew.com
SUMMARY:No Name Club
DESCRIPTION:Event in the Community Centre
URL:https://mountbellew.com/oneevent/no-name-club-49/
LOCATION:Mountbellew Community Centre\, Ballygar Road\, Mountbellew\, Galway\, H53R838\, Ireland
CATEGORIES:Community Centre
ATTACH;FMTTYPE=image/png:https://mountbellew.com/wp-content/uploads/2024/05/nonameclub.png
ORGANIZER;CN="Phil Keating":MAILTO:mountbellewcommunitycentre@gmail.com
END:VEVENT
BEGIN:VEVENT
DTSTART;TZID=Europe/Dublin:20250404T160000
DTEND;TZID=Europe/Dublin:20250404T203000
DTSTAMP:20260424T041120
CREATED:20240502T155851Z
LAST-MODIFIED:20240502T155851Z
UID:4349-1743782400-1743798600@mountbellew.com
SUMMARY:Children's Dance
DESCRIPTION:Event in the Community Centre
URL:https://mountbellew.com/oneevent/childrens-dance-49/
LOCATION:Mountbellew Community Centre\, Ballygar Road\, Mountbellew\, Galway\, H53R838\, Ireland
CATEGORIES:Community Centre
ATTACH;FMTTYPE=image/jpeg:https://mountbellew.com/wp-content/uploads/2024/05/community-centre-mountbellew-300x225-lCWSiz.tmp_.jpg
ORGANIZER;CN="Phil Keating":MAILTO:mountbellewcommunitycentre@gmail.com
END:VEVENT
BEGIN:VEVENT
DTSTART;TZID=Europe/Dublin:20250404T100000
DTEND;TZID=Europe/Dublin:20250404T110000
DTSTAMP:20260424T041120
CREATED:20240502T154800Z
LAST-MODIFIED:20240507T183935Z
UID:4291-1743760800-1743764400@mountbellew.com
SUMMARY:Pilates
DESCRIPTION:Event in the Community Centre
URL:https://mountbellew.com/oneevent/pilates-49/
LOCATION:Mountbellew Community Centre\, Ballygar Road\, Mountbellew\, Galway\, H53R838\, Ireland
CATEGORIES:Community Centre
ATTACH;FMTTYPE=image/png:https://mountbellew.com/wp-content/uploads/2024/05/pilates.png
ORGANIZER;CN="Phil Keating":MAILTO:mountbellewcommunitycentre@gmail.com
END:VEVENT
BEGIN:VEVENT
DTSTART;TZID=Europe/Dublin:20250403T200000
DTEND;TZID=Europe/Dublin:20250403T220000
DTSTAMP:20260424T041120
CREATED:20240502T152753Z
LAST-MODIFIED:20240507T183011Z
UID:4233-1743710400-1743717600@mountbellew.com
SUMMARY:The Women's Shed
DESCRIPTION:Event in the Community Centre Meeting Room
URL:https://mountbellew.com/oneevent/the-womens-shed-49/
LOCATION:Mountbellew Community Centre\, Ballygar Road\, Mountbellew\, Galway\, H53R838\, Ireland
CATEGORIES:Community Centre
ATTACH;FMTTYPE=image/png:https://mountbellew.com/wp-content/uploads/2024/05/womensshed-1.png
ORGANIZER;CN="Phil Keating":MAILTO:mountbellewcommunitycentre@gmail.com
END:VEVENT
END:VCALENDAR