BEGIN:VCALENDAR
VERSION:2.0
PRODID:-//Mountbellew - ECPv6.15.20//NONSGML v1.0//EN
CALSCALE:GREGORIAN
METHOD:PUBLISH
X-ORIGINAL-URL:https://mountbellew.com
X-WR-CALDESC:Events for Mountbellew
REFRESH-INTERVAL;VALUE=DURATION:PT1H
X-Robots-Tag:noindex
X-PUBLISHED-TTL:PT1H
BEGIN:VTIMEZONE
TZID:Europe/Dublin
BEGIN:DAYLIGHT
TZOFFSETFROM:+0000
TZOFFSETTO:+0100
TZNAME:IST
DTSTART:20240331T010000
END:DAYLIGHT
BEGIN:STANDARD
TZOFFSETFROM:+0100
TZOFFSETTO:+0000
TZNAME:GMT
DTSTART:20241027T010000
END:STANDARD
BEGIN:DAYLIGHT
TZOFFSETFROM:+0000
TZOFFSETTO:+0100
TZNAME:IST
DTSTART:20250330T010000
END:DAYLIGHT
BEGIN:STANDARD
TZOFFSETFROM:+0100
TZOFFSETTO:+0000
TZNAME:GMT
DTSTART:20251026T010000
END:STANDARD
BEGIN:DAYLIGHT
TZOFFSETFROM:+0000
TZOFFSETTO:+0100
TZNAME:IST
DTSTART:20260329T010000
END:DAYLIGHT
BEGIN:STANDARD
TZOFFSETFROM:+0100
TZOFFSETTO:+0000
TZNAME:GMT
DTSTART:20261025T010000
END:STANDARD
END:VTIMEZONE
BEGIN:VEVENT
DTSTART;TZID=Europe/Dublin:20250523T100000
DTEND;TZID=Europe/Dublin:20250523T110000
DTSTAMP:20260423T214815
CREATED:20240502T155048Z
LAST-MODIFIED:20240507T184125Z
UID:4298-1747994400-1747998000@mountbellew.com
SUMMARY:Pilates
DESCRIPTION:Event in the Community Centre
URL:https://mountbellew.com/oneevent/pilates-56/
LOCATION:Mountbellew Community Centre\, Ballygar Road\, Mountbellew\, Galway\, H53R838\, Ireland
CATEGORIES:Community Centre
ATTACH;FMTTYPE=image/png:https://mountbellew.com/wp-content/uploads/2024/05/pilates.png
ORGANIZER;CN="Phil Keating":MAILTO:mountbellewcommunitycentre@gmail.com
END:VEVENT
BEGIN:VEVENT
DTSTART;TZID=Europe/Dublin:20250522T200000
DTEND;TZID=Europe/Dublin:20250522T220000
DTSTAMP:20260423T214815
CREATED:20240502T153006Z
LAST-MODIFIED:20240508T142826Z
UID:4240-1747944000-1747951200@mountbellew.com
SUMMARY:The Women's Shed
DESCRIPTION:Event in the Community Centre Meeting Room
URL:https://mountbellew.com/oneevent/the-womens-shed-56/
LOCATION:Mountbellew Community Centre\, Ballygar Road\, Mountbellew\, Galway\, H53R838\, Ireland
CATEGORIES:Community Centre
ATTACH;FMTTYPE=image/png:https://mountbellew.com/wp-content/uploads/2024/05/womensshed-1.png
ORGANIZER;CN="Phil Keating":MAILTO:mountbellewcommunitycentre@gmail.com
END:VEVENT
BEGIN:VEVENT
DTSTART;TZID=Europe/Dublin:20250522T190000
DTEND;TZID=Europe/Dublin:20250522T213000
DTSTAMP:20260423T214815
CREATED:20240502T151054Z
LAST-MODIFIED:20240507T180226Z
UID:4182-1747940400-1747949400@mountbellew.com
SUMMARY:Karate
DESCRIPTION:Event in the Community Centre
URL:https://mountbellew.com/oneevent/karate-56/
LOCATION:Mountbellew Community Centre\, Ballygar Road\, Mountbellew\, Galway\, H53R838\, Ireland
CATEGORIES:Community Centre
ATTACH;FMTTYPE=image/png:https://mountbellew.com/wp-content/uploads/2024/05/karate.png
ORGANIZER;CN="Phil Keating":MAILTO:mountbellewcommunitycentre@gmail.com
END:VEVENT
BEGIN:VEVENT
DTSTART;TZID=Europe/Dublin:20250522T100000
DTEND;TZID=Europe/Dublin:20250522T110000
DTSTAMP:20260423T214815
CREATED:20240502T145507Z
LAST-MODIFIED:20240502T145507Z
UID:4066-1747908000-1747911600@mountbellew.com
SUMMARY:Baby body Fit
DESCRIPTION:Event in the Community Centre
URL:https://mountbellew.com/oneevent/baby-body-fit-112/
LOCATION:Mountbellew Community Centre\, Ballygar Road\, Mountbellew\, Galway\, H53R838\, Ireland
CATEGORIES:Community Centre
ATTACH;FMTTYPE=image/jpeg:https://mountbellew.com/wp-content/uploads/2024/05/community-centre-mountbellew-300x225-lCWSiz.tmp_.jpg
ORGANIZER;CN="Phil Keating":MAILTO:mountbellewcommunitycentre@gmail.com
END:VEVENT
BEGIN:VEVENT
DTSTART;TZID=Europe/Dublin:20250521T190000
DTEND;TZID=Europe/Dublin:20250521T204500
DTSTAMP:20260423T214815
CREATED:20240502T144426Z
LAST-MODIFIED:20240507T172041Z
UID:4008-1747854000-1747860300@mountbellew.com
SUMMARY:Yoga with Paul
DESCRIPTION:Event in the Community Centre
URL:https://mountbellew.com/oneevent/yoga-with-paul-56/
LOCATION:Mountbellew Community Centre\, Ballygar Road\, Mountbellew\, Galway\, H53R838\, Ireland
CATEGORIES:Community Centre
ATTACH;FMTTYPE=image/png:https://mountbellew.com/wp-content/uploads/2024/05/image-300x225-1.png
ORGANIZER;CN="Phil Keating":MAILTO:mountbellewcommunitycentre@gmail.com
END:VEVENT
BEGIN:VEVENT
DTSTART;TZID=Europe/Dublin:20250521T093000
DTEND;TZID=Europe/Dublin:20250521T103000
DTSTAMP:20260423T214815
CREATED:20240502T140209Z
LAST-MODIFIED:20240507T174342Z
UID:3950-1747819800-1747823400@mountbellew.com
SUMMARY:Slimming World
DESCRIPTION:Event in the Community Centre
URL:https://mountbellew.com/oneevent/slimming-world-112/
LOCATION:Mountbellew Community Centre\, Ballygar Road\, Mountbellew\, Galway\, H53R838\, Ireland
CATEGORIES:Community Centre
ATTACH;FMTTYPE=image/png:https://mountbellew.com/wp-content/uploads/2024/05/slimmingworld.png
ORGANIZER;CN="Phil Keating":MAILTO:mountbellewcommunitycentre@gmail.com
END:VEVENT
BEGIN:VEVENT
DTSTART;TZID=Europe/Dublin:20250520T203000
DTEND;TZID=Europe/Dublin:20250520T223000
DTSTAMP:20260423T214815
CREATED:20240502T134151Z
LAST-MODIFIED:20240507T193921Z
UID:3834-1747773000-1747780200@mountbellew.com
SUMMARY:Bowls
DESCRIPTION:Event in the Community Centre
URL:https://mountbellew.com/oneevent/bowls-112/
LOCATION:Mountbellew Community Centre\, Ballygar Road\, Mountbellew\, Galway\, H53R838\, Ireland
CATEGORIES:Community Centre
ATTACH;FMTTYPE=image/png:https://mountbellew.com/wp-content/uploads/2024/05/bowls.png
ORGANIZER;CN="Phil Keating":MAILTO:mountbellewcommunitycentre@gmail.com
END:VEVENT
BEGIN:VEVENT
DTSTART;TZID=Europe/Dublin:20250520T190000
DTEND;TZID=Europe/Dublin:20250520T210000
DTSTAMP:20260423T214815
CREATED:20240502T135101Z
LAST-MODIFIED:20240507T200746Z
UID:3892-1747767600-1747774800@mountbellew.com
SUMMARY:Art
DESCRIPTION:Event in the Community Centre
URL:https://mountbellew.com/oneevent/art-56/
LOCATION:Mountbellew Community Centre\, Ballygar Road\, Mountbellew\, Galway\, H53R838\, Ireland
CATEGORIES:Community Centre
ATTACH;FMTTYPE=image/png:https://mountbellew.com/wp-content/uploads/2024/05/image-300x225-2.png
ORGANIZER;CN="Phil Keating":MAILTO:mountbellewcommunitycentre@gmail.com
END:VEVENT
BEGIN:VEVENT
DTSTART;TZID=Europe/Dublin:20250520T190000
DTEND;TZID=Europe/Dublin:20250520T200000
DTSTAMP:20260423T214815
CREATED:20240502T133440Z
LAST-MODIFIED:20240507T195633Z
UID:3776-1747767600-1747771200@mountbellew.com
SUMMARY:Slimming World
DESCRIPTION:Event in the Community Centre
URL:https://mountbellew.com/oneevent/slimming-world-56/
LOCATION:Mountbellew Community Centre\, Ballygar Road\, Mountbellew\, Galway\, H53R838\, Ireland
CATEGORIES:Community Centre
ATTACH;FMTTYPE=image/png:https://mountbellew.com/wp-content/uploads/2024/05/slimmingworld.png
ORGANIZER;CN="Phil Keating":MAILTO:mountbellewcommunitycentre@gmail.com
END:VEVENT
BEGIN:VEVENT
DTSTART;TZID=Europe/Dublin:20250520T100000
DTEND;TZID=Europe/Dublin:20250520T110000
DTSTAMP:20260423T214815
CREATED:20240502T132559Z
LAST-MODIFIED:20240502T132559Z
UID:3718-1747735200-1747738800@mountbellew.com
SUMMARY:Baby Body Fit
DESCRIPTION:Event in the Community Centre
URL:https://mountbellew.com/oneevent/baby-body-fit-56/
LOCATION:Mountbellew Community Centre\, Ballygar Road\, Mountbellew\, Galway\, H53R838\, Ireland
CATEGORIES:Community Centre
ATTACH;FMTTYPE=image/jpeg:https://mountbellew.com/wp-content/uploads/2024/05/community-centre-mountbellew-300x225-lCWSiz.tmp_.jpg
ORGANIZER;CN="Phil Keating":MAILTO:mountbellewcommunitycentre@gmail.com
END:VEVENT
BEGIN:VEVENT
DTSTART;TZID=Europe/Dublin:20250519T184500
DTEND;TZID=Europe/Dublin:20250519T194500
DTSTAMP:20260423T214815
CREATED:20240502T130442Z
LAST-MODIFIED:20240507T202125Z
UID:3603-1747680300-1747683900@mountbellew.com
SUMMARY:Gentle Yoga with Petra
DESCRIPTION:Event in the Community Centre
URL:https://mountbellew.com/oneevent/gentle-yoga-with-petra-56/
LOCATION:Mountbellew Community Centre\, Ballygar Road\, Mountbellew\, Galway\, H53R838\, Ireland
CATEGORIES:Community Centre
ATTACH;FMTTYPE=image/png:https://mountbellew.com/wp-content/uploads/2024/05/image-300x225-1-1.png
ORGANIZER;CN="Phil Keating":MAILTO:mountbellewcommunitycentre@gmail.com
END:VEVENT
BEGIN:VEVENT
DTSTART;TZID=Europe/Dublin:20250519T103000
DTEND;TZID=Europe/Dublin:20250519T123000
DTSTAMP:20260423T214815
CREATED:20240502T124420Z
LAST-MODIFIED:20240507T192724Z
UID:3538-1747650600-1747657800@mountbellew.com
SUMMARY:Bowls
DESCRIPTION:Event in the Community Centre
URL:https://mountbellew.com/oneevent/bowls-56/
LOCATION:Mountbellew Community Centre\, Ballygar Road\, Mountbellew\, Galway\, H53R838\, Ireland
CATEGORIES:Community Centre
ATTACH;FMTTYPE=image/png:https://mountbellew.com/wp-content/uploads/2024/05/bowls.png
ORGANIZER;CN="Phil Keating":MAILTO:mountbellewcommunitycentre@gmail.com
END:VEVENT
BEGIN:VEVENT
DTSTART;TZID=Europe/Dublin:20250516T203000
DTEND;TZID=Europe/Dublin:20250516T220000
DTSTAMP:20260423T214815
CREATED:20240502T161851Z
LAST-MODIFIED:20240507T185349Z
UID:4413-1747427400-1747432800@mountbellew.com
SUMMARY:No Name Club
DESCRIPTION:Event in the Community Centre
URL:https://mountbellew.com/oneevent/no-name-club-55/
LOCATION:Mountbellew Community Centre\, Ballygar Road\, Mountbellew\, Galway\, H53R838\, Ireland
CATEGORIES:Community Centre
ATTACH;FMTTYPE=image/png:https://mountbellew.com/wp-content/uploads/2024/05/nonameclub.png
ORGANIZER;CN="Phil Keating":MAILTO:mountbellewcommunitycentre@gmail.com
END:VEVENT
BEGIN:VEVENT
DTSTART;TZID=Europe/Dublin:20250516T160000
DTEND;TZID=Europe/Dublin:20250516T203000
DTSTAMP:20260423T214815
CREATED:20240502T155905Z
LAST-MODIFIED:20240502T155905Z
UID:4355-1747411200-1747427400@mountbellew.com
SUMMARY:Children's Dance
DESCRIPTION:Event in the Community Centre
URL:https://mountbellew.com/oneevent/childrens-dance-55/
LOCATION:Mountbellew Community Centre\, Ballygar Road\, Mountbellew\, Galway\, H53R838\, Ireland
CATEGORIES:Community Centre
ATTACH;FMTTYPE=image/jpeg:https://mountbellew.com/wp-content/uploads/2024/05/community-centre-mountbellew-300x225-lCWSiz.tmp_.jpg
ORGANIZER;CN="Phil Keating":MAILTO:mountbellewcommunitycentre@gmail.com
END:VEVENT
BEGIN:VEVENT
DTSTART;TZID=Europe/Dublin:20250516T100000
DTEND;TZID=Europe/Dublin:20250516T110000
DTSTAMP:20260423T214815
CREATED:20240502T154852Z
LAST-MODIFIED:20240507T183951Z
UID:4297-1747389600-1747393200@mountbellew.com
SUMMARY:Pilates
DESCRIPTION:Event in the Community Centre
URL:https://mountbellew.com/oneevent/pilates-55/
LOCATION:Mountbellew Community Centre\, Ballygar Road\, Mountbellew\, Galway\, H53R838\, Ireland
CATEGORIES:Community Centre
ATTACH;FMTTYPE=image/png:https://mountbellew.com/wp-content/uploads/2024/05/pilates.png
ORGANIZER;CN="Phil Keating":MAILTO:mountbellewcommunitycentre@gmail.com
END:VEVENT
BEGIN:VEVENT
DTSTART;TZID=Europe/Dublin:20250515T200000
DTEND;TZID=Europe/Dublin:20250515T220000
DTSTAMP:20260423T214815
CREATED:20240502T152808Z
LAST-MODIFIED:20240507T183202Z
UID:4239-1747339200-1747346400@mountbellew.com
SUMMARY:The Women's Shed
DESCRIPTION:Event in the Community Centre Meeting Room
URL:https://mountbellew.com/oneevent/the-womens-shed-55/
LOCATION:Mountbellew Community Centre\, Ballygar Road\, Mountbellew\, Galway\, H53R838\, Ireland
CATEGORIES:Community Centre
ATTACH;FMTTYPE=image/png:https://mountbellew.com/wp-content/uploads/2024/05/womensshed-1.png
ORGANIZER;CN="Phil Keating":MAILTO:mountbellewcommunitycentre@gmail.com
END:VEVENT
BEGIN:VEVENT
DTSTART;TZID=Europe/Dublin:20250515T190000
DTEND;TZID=Europe/Dublin:20250515T213000
DTSTAMP:20260423T214815
CREATED:20240502T151041Z
LAST-MODIFIED:20240507T180140Z
UID:4181-1747335600-1747344600@mountbellew.com
SUMMARY:Karate
DESCRIPTION:Event in the Community Centre
URL:https://mountbellew.com/oneevent/karate-55/
LOCATION:Mountbellew Community Centre\, Ballygar Road\, Mountbellew\, Galway\, H53R838\, Ireland
CATEGORIES:Community Centre
ATTACH;FMTTYPE=image/png:https://mountbellew.com/wp-content/uploads/2024/05/karate.png
ORGANIZER;CN="Phil Keating":MAILTO:mountbellewcommunitycentre@gmail.com
END:VEVENT
BEGIN:VEVENT
DTSTART;TZID=Europe/Dublin:20250515T113000
DTEND;TZID=Europe/Dublin:20250515T123000
DTSTAMP:20260423T214815
CREATED:20240502T150110Z
LAST-MODIFIED:20240502T150110Z
UID:4123-1747308600-1747312200@mountbellew.com
SUMMARY:Pickleball Boccia
DESCRIPTION:Event in the Community Centre
URL:https://mountbellew.com/oneevent/pickleball-boccia-55/
LOCATION:Mountbellew Community Centre\, Ballygar Road\, Mountbellew\, Galway\, H53R838\, Ireland
CATEGORIES:Community Centre
ATTACH;FMTTYPE=image/jpeg:https://mountbellew.com/wp-content/uploads/2024/05/community-centre-mountbellew-300x225-lCWSiz.tmp_.jpg
ORGANIZER;CN="Phil Keating":MAILTO:mountbellewcommunitycentre@gmail.com
END:VEVENT
BEGIN:VEVENT
DTSTART;TZID=Europe/Dublin:20250515T100000
DTEND;TZID=Europe/Dublin:20250515T110000
DTSTAMP:20260423T214815
CREATED:20240502T145455Z
LAST-MODIFIED:20240502T145455Z
UID:4065-1747303200-1747306800@mountbellew.com
SUMMARY:Baby body Fit
DESCRIPTION:Event in the Community Centre
URL:https://mountbellew.com/oneevent/baby-body-fit-111/
LOCATION:Mountbellew Community Centre\, Ballygar Road\, Mountbellew\, Galway\, H53R838\, Ireland
CATEGORIES:Community Centre
ATTACH;FMTTYPE=image/jpeg:https://mountbellew.com/wp-content/uploads/2024/05/community-centre-mountbellew-300x225-lCWSiz.tmp_.jpg
ORGANIZER;CN="Phil Keating":MAILTO:mountbellewcommunitycentre@gmail.com
END:VEVENT
BEGIN:VEVENT
DTSTART;TZID=Europe/Dublin:20250514T190000
DTEND;TZID=Europe/Dublin:20250514T204500
DTSTAMP:20260423T214815
CREATED:20240502T144413Z
LAST-MODIFIED:20240507T172028Z
UID:4007-1747249200-1747255500@mountbellew.com
SUMMARY:Yoga with Paul
DESCRIPTION:Event in the Community Centre
URL:https://mountbellew.com/oneevent/yoga-with-paul-55/
LOCATION:Mountbellew Community Centre\, Ballygar Road\, Mountbellew\, Galway\, H53R838\, Ireland
CATEGORIES:Community Centre
ATTACH;FMTTYPE=image/png:https://mountbellew.com/wp-content/uploads/2024/05/image-300x225-1.png
ORGANIZER;CN="Phil Keating":MAILTO:mountbellewcommunitycentre@gmail.com
END:VEVENT
BEGIN:VEVENT
DTSTART;TZID=Europe/Dublin:20250514T093000
DTEND;TZID=Europe/Dublin:20250514T103000
DTSTAMP:20260423T214815
CREATED:20240502T140133Z
LAST-MODIFIED:20240507T174145Z
UID:3949-1747215000-1747218600@mountbellew.com
SUMMARY:Slimming World
DESCRIPTION:Event in the Community Centre
URL:https://mountbellew.com/oneevent/slimming-world-111/
LOCATION:Mountbellew Community Centre\, Ballygar Road\, Mountbellew\, Galway\, H53R838\, Ireland
CATEGORIES:Community Centre
ATTACH;FMTTYPE=image/png:https://mountbellew.com/wp-content/uploads/2024/05/slimmingworld.png
ORGANIZER;CN="Phil Keating":MAILTO:mountbellewcommunitycentre@gmail.com
END:VEVENT
BEGIN:VEVENT
DTSTART;TZID=Europe/Dublin:20250513T203000
DTEND;TZID=Europe/Dublin:20250513T223000
DTSTAMP:20260423T214815
CREATED:20240502T134139Z
LAST-MODIFIED:20240507T193724Z
UID:3833-1747168200-1747175400@mountbellew.com
SUMMARY:Bowls
DESCRIPTION:Event in the Community Centre
URL:https://mountbellew.com/oneevent/bowls-111/
LOCATION:Mountbellew Community Centre\, Ballygar Road\, Mountbellew\, Galway\, H53R838\, Ireland
CATEGORIES:Community Centre
ATTACH;FMTTYPE=image/png:https://mountbellew.com/wp-content/uploads/2024/05/bowls.png
ORGANIZER;CN="Phil Keating":MAILTO:mountbellewcommunitycentre@gmail.com
END:VEVENT
BEGIN:VEVENT
DTSTART;TZID=Europe/Dublin:20250513T190000
DTEND;TZID=Europe/Dublin:20250513T210000
DTSTAMP:20260423T214815
CREATED:20240502T135037Z
LAST-MODIFIED:20240507T200733Z
UID:3891-1747162800-1747170000@mountbellew.com
SUMMARY:Art
DESCRIPTION:Event in the Community Centre
URL:https://mountbellew.com/oneevent/art-55/
LOCATION:Mountbellew Community Centre\, Ballygar Road\, Mountbellew\, Galway\, H53R838\, Ireland
CATEGORIES:Community Centre
ATTACH;FMTTYPE=image/png:https://mountbellew.com/wp-content/uploads/2024/05/image-300x225-2.png
ORGANIZER;CN="Phil Keating":MAILTO:mountbellewcommunitycentre@gmail.com
END:VEVENT
BEGIN:VEVENT
DTSTART;TZID=Europe/Dublin:20250513T190000
DTEND;TZID=Europe/Dublin:20250513T200000
DTSTAMP:20260423T214815
CREATED:20240502T133428Z
LAST-MODIFIED:20240507T195435Z
UID:3775-1747162800-1747166400@mountbellew.com
SUMMARY:Slimming World
DESCRIPTION:Event in the Community Centre
URL:https://mountbellew.com/oneevent/slimming-world-55/
LOCATION:Mountbellew Community Centre\, Ballygar Road\, Mountbellew\, Galway\, H53R838\, Ireland
CATEGORIES:Community Centre
ATTACH;FMTTYPE=image/png:https://mountbellew.com/wp-content/uploads/2024/05/slimmingworld.png
ORGANIZER;CN="Phil Keating":MAILTO:mountbellewcommunitycentre@gmail.com
END:VEVENT
BEGIN:VEVENT
DTSTART;TZID=Europe/Dublin:20250513T100000
DTEND;TZID=Europe/Dublin:20250513T110000
DTSTAMP:20260423T214815
CREATED:20240502T132546Z
LAST-MODIFIED:20240502T132546Z
UID:3717-1747130400-1747134000@mountbellew.com
SUMMARY:Baby Body Fit
DESCRIPTION:Event in the Community Centre
URL:https://mountbellew.com/oneevent/baby-body-fit-55/
LOCATION:Mountbellew Community Centre\, Ballygar Road\, Mountbellew\, Galway\, H53R838\, Ireland
CATEGORIES:Community Centre
ATTACH;FMTTYPE=image/jpeg:https://mountbellew.com/wp-content/uploads/2024/05/community-centre-mountbellew-300x225-lCWSiz.tmp_.jpg
ORGANIZER;CN="Phil Keating":MAILTO:mountbellewcommunitycentre@gmail.com
END:VEVENT
BEGIN:VEVENT
DTSTART;TZID=Europe/Dublin:20250512T184500
DTEND;TZID=Europe/Dublin:20250512T194500
DTSTAMP:20260423T214815
CREATED:20240502T130428Z
LAST-MODIFIED:20240507T202029Z
UID:3602-1747075500-1747079100@mountbellew.com
SUMMARY:Gentle Yoga with Petra
DESCRIPTION:Event in the Community Centre
URL:https://mountbellew.com/oneevent/gentle-yoga-with-petra-55/
LOCATION:Mountbellew Community Centre\, Ballygar Road\, Mountbellew\, Galway\, H53R838\, Ireland
CATEGORIES:Community Centre
ATTACH;FMTTYPE=image/png:https://mountbellew.com/wp-content/uploads/2024/05/image-300x225-1-1.png
ORGANIZER;CN="Phil Keating":MAILTO:mountbellewcommunitycentre@gmail.com
END:VEVENT
BEGIN:VEVENT
DTSTART;TZID=Europe/Dublin:20250512T103000
DTEND;TZID=Europe/Dublin:20250512T123000
DTSTAMP:20260423T214815
CREATED:20240502T124415Z
LAST-MODIFIED:20240507T192711Z
UID:3537-1747045800-1747053000@mountbellew.com
SUMMARY:Bowls
DESCRIPTION:Event in the Community Centre
URL:https://mountbellew.com/oneevent/bowls-55/
LOCATION:Mountbellew Community Centre\, Ballygar Road\, Mountbellew\, Galway\, H53R838\, Ireland
CATEGORIES:Community Centre
ATTACH;FMTTYPE=image/png:https://mountbellew.com/wp-content/uploads/2024/05/bowls.png
ORGANIZER;CN="Phil Keating":MAILTO:mountbellewcommunitycentre@gmail.com
END:VEVENT
BEGIN:VEVENT
DTSTART;TZID=Europe/Dublin:20250509T203000
DTEND;TZID=Europe/Dublin:20250509T220000
DTSTAMP:20260423T214815
CREATED:20240502T161850Z
LAST-MODIFIED:20240507T185348Z
UID:4412-1746822600-1746828000@mountbellew.com
SUMMARY:No Name Club
DESCRIPTION:Event in the Community Centre
URL:https://mountbellew.com/oneevent/no-name-club-54/
LOCATION:Mountbellew Community Centre\, Ballygar Road\, Mountbellew\, Galway\, H53R838\, Ireland
CATEGORIES:Community Centre
ATTACH;FMTTYPE=image/png:https://mountbellew.com/wp-content/uploads/2024/05/nonameclub.png
ORGANIZER;CN="Phil Keating":MAILTO:mountbellewcommunitycentre@gmail.com
END:VEVENT
BEGIN:VEVENT
DTSTART;TZID=Europe/Dublin:20250509T160000
DTEND;TZID=Europe/Dublin:20250509T203000
DTSTAMP:20260423T214815
CREATED:20240502T155904Z
LAST-MODIFIED:20240502T155904Z
UID:4354-1746806400-1746822600@mountbellew.com
SUMMARY:Children's Dance
DESCRIPTION:Event in the Community Centre
URL:https://mountbellew.com/oneevent/childrens-dance-54/
LOCATION:Mountbellew Community Centre\, Ballygar Road\, Mountbellew\, Galway\, H53R838\, Ireland
CATEGORIES:Community Centre
ATTACH;FMTTYPE=image/jpeg:https://mountbellew.com/wp-content/uploads/2024/05/community-centre-mountbellew-300x225-lCWSiz.tmp_.jpg
ORGANIZER;CN="Phil Keating":MAILTO:mountbellewcommunitycentre@gmail.com
END:VEVENT
BEGIN:VEVENT
DTSTART;TZID=Europe/Dublin:20250509T100000
DTEND;TZID=Europe/Dublin:20250509T110000
DTSTAMP:20260423T214815
CREATED:20240502T154851Z
LAST-MODIFIED:20240507T183950Z
UID:4296-1746784800-1746788400@mountbellew.com
SUMMARY:Pilates
DESCRIPTION:Event in the Community Centre
URL:https://mountbellew.com/oneevent/pilates-54/
LOCATION:Mountbellew Community Centre\, Ballygar Road\, Mountbellew\, Galway\, H53R838\, Ireland
CATEGORIES:Community Centre
ATTACH;FMTTYPE=image/png:https://mountbellew.com/wp-content/uploads/2024/05/pilates.png
ORGANIZER;CN="Phil Keating":MAILTO:mountbellewcommunitycentre@gmail.com
END:VEVENT
END:VCALENDAR